BEGIN:VCALENDAR
VERSION:2.0
PRODID:-//Learning to Live with Brain Change in Hillsborough, NC | Snow Approach Foundation - ECPv6.15.18//NONSGML v1.0//EN
CALSCALE:GREGORIAN
METHOD:PUBLISH
X-WR-CALNAME:Learning to Live with Brain Change in Hillsborough, NC | Snow Approach Foundation
X-ORIGINAL-URL:https://snowapproach.org
X-WR-CALDESC:Events for Learning to Live with Brain Change in Hillsborough, NC | Snow Approach Foundation
REFRESH-INTERVAL;VALUE=DURATION:PT1H
X-Robots-Tag:noindex
X-PUBLISHED-TTL:PT1H
BEGIN:VTIMEZONE
TZID:America/New_York
BEGIN:DAYLIGHT
TZOFFSETFROM:-0500
TZOFFSETTO:-0400
TZNAME:EDT
DTSTART:20250309T070000
END:DAYLIGHT
BEGIN:STANDARD
TZOFFSETFROM:-0400
TZOFFSETTO:-0500
TZNAME:EST
DTSTART:20251102T060000
END:STANDARD
BEGIN:DAYLIGHT
TZOFFSETFROM:-0500
TZOFFSETTO:-0400
TZNAME:EDT
DTSTART:20260308T070000
END:DAYLIGHT
BEGIN:STANDARD
TZOFFSETFROM:-0400
TZOFFSETTO:-0500
TZNAME:EST
DTSTART:20261101T060000
END:STANDARD
BEGIN:DAYLIGHT
TZOFFSETFROM:-0500
TZOFFSETTO:-0400
TZNAME:EDT
DTSTART:20270314T070000
END:DAYLIGHT
BEGIN:STANDARD
TZOFFSETFROM:-0400
TZOFFSETTO:-0500
TZNAME:EST
DTSTART:20271107T060000
END:STANDARD
END:VTIMEZONE
BEGIN:VEVENT
DTSTART;TZID=America/New_York:20260323T150000
DTEND;TZID=America/New_York:20260323T163000
DTSTAMP:20260422T082059
CREATED:20260112T183521Z
LAST-MODIFIED:20260407T155804Z
UID:10003325-1774278000-1774283400@snowapproach.org
SUMMARY:Brain Connection Cafe
DESCRIPTION:[vc_row][vc_column][vc_column_text css=””]\nWhat is Brain Connection Cafe?\nBrain Connection Cafes are free community events involving people living with brain change\, care partners\, and other volunteers from the Hillsborough community. Each Cafe event provides education activities which activate different parts of the brain through music\, games\, and other tasks. Our vision is for a world inclusive to all brain change and that vision starts here\, in Hillsborough. \nWho is it for?\nBrain Connection Cafes are for people of all ages\, sizes\, typical and atypical brains. While we provide skills to accommodate for those experiencing Dementia and other brain changes\, our events provide community for all individuals in Hillsborough and the expanding area.[/vc_column_text][/vc_column][/vc_row]
URL:https://snowapproach.org/event/brain-connection-cafe-march-23-2026/
LOCATION:Snow Approach Foundation\, 129 East King Street\, Hillsborough\, NC\, 27278\, United States
CATEGORIES:Public Events
ATTACH;FMTTYPE=image/jpeg:https://snowapproach.org/wp-content/uploads/2026/04/Monday-Brain-Connection-Cafe-Featured.jpg
ORGANIZER;CN="Snow Approach":MAILTO:info@snowapproach.org
END:VEVENT
END:VCALENDAR