BEGIN:VCALENDAR
VERSION:2.0
PRODID:-//Learning to Live with Brain Change in Hillsborough, NC | Snow Approach Foundation - ECPv6.15.18//NONSGML v1.0//EN
CALSCALE:GREGORIAN
METHOD:PUBLISH
X-WR-CALNAME:Learning to Live with Brain Change in Hillsborough, NC | Snow Approach Foundation
X-ORIGINAL-URL:https://snowapproach.org
X-WR-CALDESC:Events for Learning to Live with Brain Change in Hillsborough, NC | Snow Approach Foundation
REFRESH-INTERVAL;VALUE=DURATION:PT1H
X-Robots-Tag:noindex
X-PUBLISHED-TTL:PT1H
BEGIN:VTIMEZONE
TZID:America/New_York
BEGIN:DAYLIGHT
TZOFFSETFROM:-0500
TZOFFSETTO:-0400
TZNAME:EDT
DTSTART:20250309T070000
END:DAYLIGHT
BEGIN:STANDARD
TZOFFSETFROM:-0400
TZOFFSETTO:-0500
TZNAME:EST
DTSTART:20251102T060000
END:STANDARD
BEGIN:DAYLIGHT
TZOFFSETFROM:-0500
TZOFFSETTO:-0400
TZNAME:EDT
DTSTART:20260308T070000
END:DAYLIGHT
BEGIN:STANDARD
TZOFFSETFROM:-0400
TZOFFSETTO:-0500
TZNAME:EST
DTSTART:20261101T060000
END:STANDARD
BEGIN:DAYLIGHT
TZOFFSETFROM:-0500
TZOFFSETTO:-0400
TZNAME:EDT
DTSTART:20270314T070000
END:DAYLIGHT
BEGIN:STANDARD
TZOFFSETFROM:-0400
TZOFFSETTO:-0500
TZNAME:EST
DTSTART:20271107T060000
END:STANDARD
END:VTIMEZONE
BEGIN:VEVENT
DTSTART;TZID=America/New_York:20260423T081500
DTEND;TZID=America/New_York:20260423T100000
DTSTAMP:20260423T020118
CREATED:20260112T213616Z
LAST-MODIFIED:20260112T213955Z
UID:10001452-1776932100-1776938400@snowapproach.org
SUMMARY:Women In Networking (WIN) Meeting
DESCRIPTION:[vc_row][vc_column][vc_column_text css=””]Snow Approach invites the local community into our space for coffee\, co-working\, and community! Stop by our inviting cafe space for complimentary coffee and a place to work around local professionals. \nRSVP and inquiries to Tamara LeMoine at tammy@starfishbakery.org.[/vc_column_text][/vc_column][/vc_row]
URL:https://snowapproach.org/event/women-in-networking-win-meeting-april-23-2026/
LOCATION:Snow Approach Foundation\, 129 East King Street\, Hillsborough\, NC\, 27278\, United States
CATEGORIES:Private Events
ATTACH;FMTTYPE=image/jpeg:https://snowapproach.org/wp-content/uploads/2025/02/Women-In-Networking-Featured.jpg
ORGANIZER;CN="Snow Approach":MAILTO:info@snowapproach.org
END:VEVENT
BEGIN:VEVENT
DTSTART;TZID=America/New_York:20260423T103000
DTEND;TZID=America/New_York:20260423T113000
DTSTAMP:20260423T020118
CREATED:20251121T152943Z
LAST-MODIFIED:20260207T013843Z
UID:10005187-1776940200-1776943800@snowapproach.org
SUMMARY:Tai Chi for All
DESCRIPTION:[vc_row][vc_column][vc_column_text css=”” bottom_margin=”20px”]\nHave FUN with Tai Chi\nTo register visit https://app.ubindi.com/Sirhan.Chow \nA portion of your class fee is donated to SAF to support their community missions! \nSide affects include: \n\nImproved physical\, cognitive\, joint\, and cardiovascular health: Strength\, balance\, flexibility\, and posture\nCultivated mental and emotional well-being: Stress relief\, self-compassion\, and a sense of community\n\nThursdays from 10:30-11:30 \nThe Art of Moving Meditation Tai Chi is a meditative practice of gentle moments\, breathwork and a focused mind. Deeply interwoven in Tai Chi is the Tao\, the Chinese philosophy of balance and harmony. This combination promotes physical and mental well-being\, which will bring about a sense of tranquility and inner peace. Studies have shown this practice to be a cardio workout that promotes balance\, flexibility\, strength\, and self-awareness. The form we shall be practicing is a modified Yang long-form. There will be 108 moves\, many of which are repeats. Wear comfortable clothes and sensible shoes.[/vc_column_text]Register Now [/vc_column][/vc_row]
URL:https://snowapproach.org/event/tai-chi-for-all/2026-04-23/
LOCATION:Snow Approach Foundation\, 129 East King Street\, Hillsborough\, NC\, 27278\, United States
CATEGORIES:Public Events
ATTACH;FMTTYPE=image/jpeg:https://snowapproach.org/wp-content/uploads/2026/02/Tai-Chi-for-All-Featured.jpg
ORGANIZER;CN="Snow Approach":MAILTO:info@snowapproach.org
END:VEVENT
BEGIN:VEVENT
DTSTART;TZID=America/New_York:20260423T103000
DTEND;TZID=America/New_York:20260423T113000
DTSTAMP:20260423T020118
CREATED:20260324T191111Z
LAST-MODIFIED:20260325T133120Z
UID:10006017-1776940200-1776943800@snowapproach.org
SUMMARY:Learning Event: End of Life Care Options
DESCRIPTION:[vc_row][vc_column][vc_column_text css=””]\nNone of Us Will Live Forever!\nJoin us for a free event to learn about support options when life’s journey with brain change is coming to an end. \nThis event is a collaboration between Duke Home Care and Hospice.[/vc_column_text][/vc_column][/vc_row]
URL:https://snowapproach.org/event/learning-event-end-of-life-care-options/
LOCATION:Snow Approach Foundation\, 129 East King Street\, Hillsborough\, NC\, 27278\, United States
CATEGORIES:Public Events
ATTACH;FMTTYPE=image/gif:https://snowapproach.org/wp-content/uploads/2026/03/End-of-Life-Care-Options-Featured.gif
ORGANIZER;CN="Snow Approach":MAILTO:info@snowapproach.org
END:VEVENT
BEGIN:VEVENT
DTSTART;TZID=America/New_York:20260423T114500
DTEND;TZID=America/New_York:20260423T123000
DTSTAMP:20260423T020118
CREATED:20260206T223221Z
LAST-MODIFIED:20260414T170843Z
UID:10005476-1776944700-1776947400@snowapproach.org
SUMMARY:Gentle Yoga
DESCRIPTION:[vc_row][vc_column][vc_column_text css=”” bottom_margin=”20px”]\nHave FUN with Yoga\nTo register visit https://app.ubindi.com/Sirhan.Chow \nA portion of your class fee is donated to SAF to support their community missions! \nA fun and gentle time to explore movement and improve body awareness\, balance\, strength and flexibility. Designed for all levels with all standing or sitting poses (no floor work).[/vc_column_text]Register Now [/vc_column][/vc_row]
URL:https://snowapproach.org/event/gentle-yoga/2026-04-23/
LOCATION:Snow Approach Foundation\, 129 East King Street\, Hillsborough\, NC\, 27278\, United States
CATEGORIES:Public Events
ATTACH;FMTTYPE=image/jpeg:https://snowapproach.org/wp-content/uploads/2026/02/Gentle-Yoga-Featured.jpg
ORGANIZER;CN="Snow Approach":MAILTO:info@snowapproach.org
END:VEVENT
BEGIN:VEVENT
DTSTART;TZID=America/New_York:20260423T160000
DTEND;TZID=America/New_York:20260423T170000
DTSTAMP:20260423T020118
CREATED:20260312T154859Z
LAST-MODIFIED:20260312T154859Z
UID:10005742-1776960000-1776963600@snowapproach.org
SUMMARY:Bhakti Yoga Event: Guided Meditation and Kirtan
DESCRIPTION:[vc_row][vc_column][vc_column_text css=”” bottom_margin=”20px”]\nGuided Meditation & Kirtan Music\nThis immersive class opens with Kirtan and mindfulness practices\, creating a space of presence\, peace\, and inner connection. Participants are then guided through a meditation accompanied by Kirtan music\, deepening the heart’s openness and receptivity.We’ll explore the foundational principles of Bhakti Yoga in an accessible way offering guidance on how to create a personalized daily devotional practice that flows naturally within your current lifestyle. The aim is to cultivate a continual sense of connection with the Divine in an effortless\, natural\, and ever-present way throughout the day. The class concludes with a Q&A session. \nThis is a donation-based offering – with a portion of donations shared to support Snow Approach Foundation’s mission.[/vc_column_text]Donate via CashApp [vc_column_text css=”” bottom_margin=”20px”]\nMonk Prema will lead the session\nPrema is a devoted Bhakti Yoga practitioner and teacher who first discovered the healing power of Bhakti Yoga during Graduate School. His journey has brought him profound spiritual\, emotional\, and physical healing. After completing his studies\, Prema immersed himself deeper into Bhakti Yoga\, and it has exceeded all his expectations. Today\, he passionately teaches others\, making Bhakti Yoga easy to understand and integrate into daily life.[/vc_column_text][/vc_column][/vc_row]
URL:https://snowapproach.org/event/bhakti-yoga-event-guided-meditation-and-kirtan/
LOCATION:Snow Approach Foundation\, 129 East King Street\, Hillsborough\, NC\, 27278\, United States
CATEGORIES:Public Events
ATTACH;FMTTYPE=image/jpeg:https://snowapproach.org/wp-content/uploads/2026/03/Bhakti-Yoga-Event-Featured.jpg
ORGANIZER;CN="Snow Approach":MAILTO:info@snowapproach.org
END:VEVENT
BEGIN:VEVENT
DTSTART;TZID=America/New_York:20260423T181500
DTEND;TZID=America/New_York:20260423T191500
DTSTAMP:20260423T020118
CREATED:20260206T222809Z
LAST-MODIFIED:20260207T013946Z
UID:10005222-1776968100-1776971700@snowapproach.org
SUMMARY:Yoga for All
DESCRIPTION:[vc_row][vc_column][vc_column_text css=”” bottom_margin=”20px”]\nHave FUN with Yoga\nTo register visit https://app.ubindi.com/Sirhan.Chow \nA portion of your class fee is donated to SAF to support their community missions! \nHave fun and build your balance\, strength and flexibility. Designed for all levels and includes floor work.[/vc_column_text]Register Now [/vc_column][/vc_row]
URL:https://snowapproach.org/event/yoga-for-all/2026-04-23/
LOCATION:Snow Approach Foundation\, 129 East King Street\, Hillsborough\, NC\, 27278\, United States
CATEGORIES:Public Events
ATTACH;FMTTYPE=image/jpeg:https://snowapproach.org/wp-content/uploads/2026/02/Yoga-for-All-Featured.jpg
ORGANIZER;CN="Snow Approach":MAILTO:info@snowapproach.org
END:VEVENT
END:VCALENDAR