BEGIN:VCALENDAR
VERSION:2.0
PRODID:-//Learning to Live with Brain Change in Hillsborough, NC | Snow Approach Foundation - ECPv6.15.18//NONSGML v1.0//EN
CALSCALE:GREGORIAN
METHOD:PUBLISH
X-WR-CALNAME:Learning to Live with Brain Change in Hillsborough, NC | Snow Approach Foundation
X-ORIGINAL-URL:https://snowapproach.org
X-WR-CALDESC:Events for Learning to Live with Brain Change in Hillsborough, NC | Snow Approach Foundation
REFRESH-INTERVAL;VALUE=DURATION:PT1H
X-Robots-Tag:noindex
X-PUBLISHED-TTL:PT1H
BEGIN:VTIMEZONE
TZID:America/New_York
BEGIN:DAYLIGHT
TZOFFSETFROM:-0500
TZOFFSETTO:-0400
TZNAME:EDT
DTSTART:20250309T070000
END:DAYLIGHT
BEGIN:STANDARD
TZOFFSETFROM:-0400
TZOFFSETTO:-0500
TZNAME:EST
DTSTART:20251102T060000
END:STANDARD
BEGIN:DAYLIGHT
TZOFFSETFROM:-0500
TZOFFSETTO:-0400
TZNAME:EDT
DTSTART:20260308T070000
END:DAYLIGHT
BEGIN:STANDARD
TZOFFSETFROM:-0400
TZOFFSETTO:-0500
TZNAME:EST
DTSTART:20261101T060000
END:STANDARD
BEGIN:DAYLIGHT
TZOFFSETFROM:-0500
TZOFFSETTO:-0400
TZNAME:EDT
DTSTART:20270314T070000
END:DAYLIGHT
BEGIN:STANDARD
TZOFFSETFROM:-0400
TZOFFSETTO:-0500
TZNAME:EST
DTSTART:20271107T060000
END:STANDARD
END:VTIMEZONE
BEGIN:VEVENT
DTSTART;TZID=America/New_York:20260420T090000
DTEND;TZID=America/New_York:20260420T103000
DTSTAMP:20260420T083220
CREATED:20260127T161424Z
LAST-MODIFIED:20260127T161424Z
UID:10005158-1776675600-1776681000@snowapproach.org
SUMMARY:Death & Donuts
DESCRIPTION:[vc_row][vc_column][vc_column_text css=””]Death and Donuts is a free\, welcoming gathering where people come together with open minds and open hearts to have meaningful conversations about death. You can share fears\, life wishes\, and end-of-life thoughts\, listen to different perspectives\, learn about planning and body disposition options\, and talk about the things we often don’t talk about enough — all in a thoughtful\, supportive space. \nPlease consider a small donation for our use of the beautiful space. \nQuestions?\nContact Ana Brun at lifeanddeath@withanabrun.com.[/vc_column_text][/vc_column][/vc_row]
URL:https://snowapproach.org/event/death-donuts-april-20-2026/
LOCATION:Snow Approach Foundation\, 129 East King Street\, Hillsborough\, NC\, 27278\, United States
CATEGORIES:Public Events
ATTACH;FMTTYPE=image/jpeg:https://snowapproach.org/wp-content/uploads/2025/07/Death-and-Donuts-Featured.jpg
ORGANIZER;CN="Snow Approach":MAILTO:info@snowapproach.org
END:VEVENT
BEGIN:VEVENT
DTSTART;TZID=America/New_York:20260420T133000
DTEND;TZID=America/New_York:20260420T140000
DTSTAMP:20260420T083220
CREATED:20260407T162125Z
LAST-MODIFIED:20260413T183601Z
UID:10006044-1776691800-1776693600@snowapproach.org
SUMMARY:Early Movement Option
DESCRIPTION:[vc_row][vc_column][vc_column_text css=””]Join us for a brief session to exercise and strengthen your body for your brain health and overall well-being.[/vc_column_text][/vc_column][/vc_row]
URL:https://snowapproach.org/event/early-movement-option-mondays/2026-04-20/
LOCATION:Snow Approach Foundation\, 129 East King Street\, Hillsborough\, NC\, 27278\, United States
CATEGORIES:Public Events
ATTACH;FMTTYPE=image/jpeg:https://snowapproach.org/wp-content/uploads/2026/04/Early-Movement-Option-Featured.jpg
ORGANIZER;CN="Snow Approach":MAILTO:info@snowapproach.org
END:VEVENT
BEGIN:VEVENT
DTSTART;TZID=America/New_York:20260420T140000
DTEND;TZID=America/New_York:20260420T150000
DTSTAMP:20260420T083220
CREATED:20260407T163215Z
LAST-MODIFIED:20260413T191823Z
UID:10006300-1776693600-1776697200@snowapproach.org
SUMMARY:Educational Support Groups
DESCRIPTION:[vc_row][vc_column][vc_column_text css=””]\nThis is a special time for learning and sharing together.\nWe have two groups meeting at the same time (in different rooms). You can join whichever best meets your needs: \n\nCare Partner Educational Support Group\nChanging Brains Support Group for people living with brain changes including a combination of activities and conversations\n\n[/vc_column_text][/vc_column][/vc_row]
URL:https://snowapproach.org/event/educational-support-groups-april-20-2026/
LOCATION:Snow Approach Foundation\, 129 East King Street\, Hillsborough\, NC\, 27278\, United States
CATEGORIES:Public Events
ATTACH;FMTTYPE=image/jpeg:https://snowapproach.org/wp-content/uploads/2026/04/Educational-Support-Group-Featured.jpg
ORGANIZER;CN="Snow Approach":MAILTO:info@snowapproach.org
END:VEVENT
BEGIN:VEVENT
DTSTART;TZID=America/New_York:20260420T150000
DTEND;TZID=America/New_York:20260420T163000
DTSTAMP:20260420T083220
CREATED:20260112T183744Z
LAST-MODIFIED:20260407T155717Z
UID:10003329-1776697200-1776702600@snowapproach.org
SUMMARY:Brain Connection Cafe
DESCRIPTION:[vc_row][vc_column][vc_column_text css=””]\nWhat is Brain Connection Cafe?\nBrain Connection Cafes are free community events involving people living with brain change\, care partners\, and other volunteers from the Hillsborough community. Each Cafe event provides education activities which activate different parts of the brain through music\, games\, and other tasks. Our vision is for a world inclusive to all brain change and that vision starts here\, in Hillsborough. \nWho is it for?\nBrain Connection Cafes are for people of all ages\, sizes\, typical and atypical brains. While we provide skills to accommodate for those experiencing Dementia and other brain changes\, our events provide community for all individuals in Hillsborough and the expanding area.[/vc_column_text][/vc_column][/vc_row]
URL:https://snowapproach.org/event/brain-connection-cafe-april-20-2026/
LOCATION:Snow Approach Foundation\, 129 East King Street\, Hillsborough\, NC\, 27278\, United States
CATEGORIES:Public Events
ATTACH;FMTTYPE=image/jpeg:https://snowapproach.org/wp-content/uploads/2026/04/Monday-Brain-Connection-Cafe-Featured.jpg
ORGANIZER;CN="Snow Approach":MAILTO:info@snowapproach.org
END:VEVENT
END:VCALENDAR